BEGIN:VCALENDAR
VERSION:2.0
PRODID:DPCALENDAR
CALSCALE:GREGORIAN
X-WR-TIMEZONE:UTC
BEGIN:VEVENT
DTSTART;TZID=Europe/Berlin:20160929T190000
DTEND;TZID=Europe/Berlin:20160929T203000
UID:7C079DCA-37FA-4335-B1BF-895DF41256D4
SUMMARY:Elternabende Klasse 7/8
DTSTAMP:20160914T143525Z
DESCRIPTION:
X-ALT-DESC;FMTTYPE=text/html:
X-ACCESS:1
X-HITS:1
X-URL:
X-COLOR:3366CC
END:VEVENT
BEGIN:VEVENT
DTSTART;VALUE=DATE:20161004
DTEND;VALUE=DATE:20161005
UID:76CBF990-24EA-4BD6-ADCA-341CD148EA71
SUMMARY:Einweihung des Neubaus
DTSTAMP:20160906T182113Z
DESCRIPTION:
X-ALT-DESC;FMTTYPE=text/html:
LAST-MODIFIED:20160914T143220Z
X-ACCESS:1
X-HITS:17
X-URL:
X-COLOR:3366CC
END:VEVENT
BEGIN:VEVENT
DTSTART;TZID=Europe/Berlin:20161014T095000
DTEND;TZID=Europe/Berlin:20161014T140000
UID:FB9DA030-78B0-44E2-BD46-6019D8D82F43
SUMMARY:Auslandsmesse
DTSTAMP:20160906T182410Z
DESCRIPTION:
X-ALT-DESC;FMTTYPE=text/html:
X-ACCESS:1
X-HITS:7
X-URL:
X-COLOR:3366CC
END:VEVENT
END:VCALENDAR